{
 "currentVersion": 11.1,
 "serviceDescription": "test/Shillong_S2",
 "name": "test/Shillong_S2",
 "description": "",
 "extent": {
  "xmin": 300000,
  "ymin": 2790240,
  "xmax": 409800,
  "ymax": 2900040,
  "spatialReference": {
   "wkid": 32646,
   "latestWkid": 32646
  }
 },
 "initialExtent": {
  "xmin": 300000,
  "ymin": 2790240,
  "xmax": 409800,
  "ymax": 2900040,
  "spatialReference": {
   "wkid": 32646,
   "latestWkid": 32646
  }
 },
 "fullExtent": {
  "xmin": 300000,
  "ymin": 2790240,
  "xmax": 409800,
  "ymax": 2900040,
  "spatialReference": {
   "wkid": 32646,
   "latestWkid": 32646
  }
 },
 "sortableFields": "",
 "bandCount": 4,
 "pixelType": "U16",
 "minValues": [
  0,
  0,
  0,
  0
 ],
 "maxValues": [
  32767,
  32767,
  32767,
  32767
 ],
 "meanValues": [
  0,
  0,
  0,
  0
 ],
 "stdvValues": [
  -1,
  -1,
  -1,
  -1
 ],
 "hasMultidimensions": false,
 "pixelSizeX": 10,
 "pixelSizeY": 10,
 "datasetFormat": "AFR",
 "uncompressedSize": 964483200,
 "blockWidth": 1024,
 "blockHeight": 1024,
 "compressionType": "None",
 "bandNames": [
  "B2",
  "B3",
  "B4",
  "B8"
 ],
 "allowCopy": true,
 "allowAnalysis": true,
 "itemAccess": false,
 "minPixelSize": 0,
 "maxPixelSize": 0,
 "copyrightText": "",
 "serviceDataType": "esriImageServiceDataTypeGeneric",
 "serviceSourceType": "esriImageServiceSourceTypeDataset",
 "objectIdField": "",
 "fields": [],
 "capabilities": "Image,Metadata,Mensuration",
 "defaultMosaicMethod": "Center",
 "allowedMosaicMethods": "",
 "sortField": "",
 "sortValue": null,
 "sortAscending": true,
 "mosaicOperator": "First",
 "maxDownloadSizeLimit": 0,
 "defaultCompressionQuality": 75,
 "defaultResamplingMethod": "Bilinear",
 "maxImageHeight": 4100,
 "maxImageWidth": 15000,
 "maxRecordCount": 1000,
 "maxDownloadImageCount": 20,
 "maxMosaicImageCount": 20,
 "allowRasterFunction": true,
 "rasterFunctionInfos": [
  {
   "name": "None",
   "description": "",
   "help": ""
  }
 ],
 "rasterTypeInfos": [
  {
   "name": "Raster Dataset",
   "description": "Supports all ArcGIS Raster Datasets",
   "help": ""
  }
 ],
 "mensurationCapabilities": "Basic",
 "hasHistograms": false,
 "hasColormap": false,
 "hasRasterAttributeTable": false,
 "minScale": 0,
 "maxScale": 0,
 "exportTilesAllowed": false,
 "supportsStatistics": false,
 "supportsAdvancedQueries": false,
 "editFieldsInfo": null,
 "ownershipBasedAccessControlForRasters": null,
 "allowComputeTiePoints": false,
 "useStandardizedQueries": true,
 "advancedQueryCapabilities": {
  "useStandardizedQueries": true,
  "supportsStatistics": false,
  "supportsOrderBy": false,
  "supportsDistinct": false,
  "supportsPagination": false
 },
 "spatialReference": {
  "wkid": 32646,
  "latestWkid": 32646
 }
}
